BEGIN:VCALENDAR
VERSION:2.0
PRODID:-//Viena Latina - ECPv6.15.20//NONSGML v1.0//EN
CALSCALE:GREGORIAN
METHOD:PUBLISH
X-WR-CALNAME:Viena Latina
X-ORIGINAL-URL:https://www.vienalatina.org
X-WR-CALDESC:Eventos para Viena Latina
REFRESH-INTERVAL;VALUE=DURATION:PT1H
X-Robots-Tag:noindex
X-PUBLISHED-TTL:PT1H
BEGIN:VTIMEZONE
TZID:Europe/Vienna
BEGIN:DAYLIGHT
TZOFFSETFROM:+0100
TZOFFSETTO:+0200
TZNAME:CEST
DTSTART:20240331T010000
END:DAYLIGHT
BEGIN:STANDARD
TZOFFSETFROM:+0200
TZOFFSETTO:+0100
TZNAME:CET
DTSTART:20241027T010000
END:STANDARD
BEGIN:DAYLIGHT
TZOFFSETFROM:+0100
TZOFFSETTO:+0200
TZNAME:CEST
DTSTART:20250330T010000
END:DAYLIGHT
BEGIN:STANDARD
TZOFFSETFROM:+0200
TZOFFSETTO:+0100
TZNAME:CET
DTSTART:20251026T010000
END:STANDARD
BEGIN:DAYLIGHT
TZOFFSETFROM:+0100
TZOFFSETTO:+0200
TZNAME:CEST
DTSTART:20260329T010000
END:DAYLIGHT
BEGIN:STANDARD
TZOFFSETFROM:+0200
TZOFFSETTO:+0100
TZNAME:CET
DTSTART:20261025T010000
END:STANDARD
END:VTIMEZONE
BEGIN:VEVENT
DTSTART;TZID=Europe/Vienna:20250510T180000
DTEND;TZID=Europe/Vienna:20250510T230000
DTSTAMP:20260425T145035
CREATED:20250425T143328Z
LAST-MODIFIED:20250425T143328Z
UID:6471-1746900000-1746918000@www.vienalatina.org
SUMMARY:Voces migrantes: migración narrada en imágenes
DESCRIPTION:Voces migrantes: migración narrada en imágenes es una exhibición temporal que presenta el trabajo de 22 personas migrantes que viven en Viena. Durante varios meses\, participaron en un proceso colectivo basado en la metodología de Photovoice: asistieron a talleres de fotografía\, se encontraron en espacios de diálogo\, asumieron la escritura de interpretaciones y tomaron decisiones conjuntas sobre cómo se verían sus fotografías. La exposición es el resultado de este proceso: fotos con palabras de quienes las crearon. \nLa muestra forma parte del proyecto Viena Latina y podrá visitarse el sábado 10 de mayo de 2025\, entre las 18:00 y las 23:00 horas\, en la Sala Frida Kahlo (Türkenstraße 25\, 1090 Viena). La entrada es gratuita\, pero se requiere registro previo (vielac@lai.at). Es una invitación a conocer historias de migración contadas directamente por quienes las viven. \nLas y los esperamos para compartir este espacio de diálogo visual sobre la migración.
URL:https://www.vienalatina.org/event/voces-migrantes-migracion-narrada-en-imagenes/
LOCATION:Instituto Austriaco para América Latina\, Frida Kahlo Sala\, Türkenstraße 25\, Viena\, 1090\, Austria
ATTACH;FMTTYPE=image/jpeg:https://www.vienalatina.org/archiv/wp-content/uploads/2024/11/IMG_20250118_170059-scaled.jpg
END:VEVENT
END:VCALENDAR