BEGIN:VCALENDAR
VERSION:2.0
PRODID:-//Viena Latina - ECPv6.15.20//NONSGML v1.0//EN
CALSCALE:GREGORIAN
METHOD:PUBLISH
X-WR-CALNAME:Viena Latina
X-ORIGINAL-URL:https://www.vienalatina.org
X-WR-CALDESC:Eventos para Viena Latina
REFRESH-INTERVAL;VALUE=DURATION:PT1H
X-Robots-Tag:noindex
X-PUBLISHED-TTL:PT1H
BEGIN:VTIMEZONE
TZID:Europe/Vienna
BEGIN:DAYLIGHT
TZOFFSETFROM:+0100
TZOFFSETTO:+0200
TZNAME:CEST
DTSTART:20240331T010000
END:DAYLIGHT
BEGIN:STANDARD
TZOFFSETFROM:+0200
TZOFFSETTO:+0100
TZNAME:CET
DTSTART:20241027T010000
END:STANDARD
BEGIN:DAYLIGHT
TZOFFSETFROM:+0100
TZOFFSETTO:+0200
TZNAME:CEST
DTSTART:20250330T010000
END:DAYLIGHT
BEGIN:STANDARD
TZOFFSETFROM:+0200
TZOFFSETTO:+0100
TZNAME:CET
DTSTART:20251026T010000
END:STANDARD
BEGIN:DAYLIGHT
TZOFFSETFROM:+0100
TZOFFSETTO:+0200
TZNAME:CEST
DTSTART:20260329T010000
END:DAYLIGHT
BEGIN:STANDARD
TZOFFSETFROM:+0200
TZOFFSETTO:+0100
TZNAME:CET
DTSTART:20261025T010000
END:STANDARD
END:VTIMEZONE
BEGIN:VEVENT
DTSTART;TZID=Europe/Vienna:20250823T160000
DTEND;TZID=Europe/Vienna:20250823T210000
DTSTAMP:20260421T102658
CREATED:20250717T132835Z
LAST-MODIFIED:20250722T130507Z
UID:6546-1755964800-1755982800@www.vienalatina.org
SUMMARY:Paseo Urbano: Llegada\, trabajo\, resistencia y recreación
DESCRIPTION:El Danubio y sus alrededores han sido una tierra fértil para muchos emprendimientos latinoamericanos. Por otro lado\, llegar para quedarse y establecerse en esta ciudad también implica tener que «sobrevivir» a la burocracia inherente a los procesos migratorios. Les invitamos a participar en este recorrido en el que se narran las experiencias de muchas personas que llegaron a la ciudad\, tal como hacen las aguas del Danubio\, para dejar huella y continuar fluyendo. \n4–7 pm: Paseo Urbano\n7–9 pm: Encuentro Festivo \nPlazas limitadas. \nInscripciones e información sobre el punto de encuentro: vielac@lai.at \nLos paseos urbanos se llevarán a cabo en español y alemán.
URL:https://www.vienalatina.org/event/paseo-urbano-1/
LOCATION:Viena
ATTACH;FMTTYPE=image/jpeg:https://www.vienalatina.org/archiv/wp-content/uploads/2025/07/WP-18-Paseo-Urbano.jpg
END:VEVENT
END:VCALENDAR